BEGIN:VCALENDAR
VERSION:2.0
PRODID:-//Site de la commune de Usseau - ECPv4.6.14.1//NONSGML v1.0//EN
CALSCALE:GREGORIAN
METHOD:PUBLISH
X-WR-CALNAME:Site de la commune de Usseau
X-ORIGINAL-URL:http://www.usseau86.fr
X-WR-CALDESC:Events for Site de la commune de Usseau
BEGIN:VEVENT
DTSTART;TZID=Europe/Paris:20251231T080000
DTEND;TZID=Europe/Paris:20260102T170000
DTSTAMP:20260426T002314
CREATED:20251222T072832Z
LAST-MODIFIED:20251222T072832Z
UID:3062-1767168000-1767373200@www.usseau86.fr
SUMMARY:Fermeture de la mairie
DESCRIPTION:
URL:http://www.usseau86.fr/evenement/fermeture-de-la-mairie-4/
END:VEVENT
END:VCALENDAR