BEGIN:VCALENDAR
VERSION:2.0
PRODID:-//Site de la commune de Usseau - ECPv4.6.14.1//NONSGML v1.0//EN
CALSCALE:GREGORIAN
METHOD:PUBLISH
X-WR-CALNAME:Site de la commune de Usseau
X-ORIGINAL-URL:http://www.usseau86.fr
X-WR-CALDESC:Events for Site de la commune de Usseau
BEGIN:VEVENT
DTSTART;TZID=Europe/Paris:20260205T183000
DTEND;TZID=Europe/Paris:20260205T200000
DTSTAMP:20260425T204600
CREATED:20260116T105828Z
LAST-MODIFIED:20260116T110008Z
UID:3090-1770316200-1770321600@www.usseau86.fr
SUMMARY:Ciné-débat au 400 Coups
DESCRIPTION:Flyer A5 Ciné-débat CAGC \n
URL:http://www.usseau86.fr/evenement/cine-debat-au-400-coups/
END:VEVENT
END:VCALENDAR