BEGIN:VCALENDAR
VERSION:2.0
PRODID:-//Site de la commune de Usseau - ECPv4.6.14.1//NONSGML v1.0//EN
CALSCALE:GREGORIAN
METHOD:PUBLISH
X-WR-CALNAME:Site de la commune de Usseau
X-ORIGINAL-URL:http://www.usseau86.fr
X-WR-CALDESC:Events for Site de la commune de Usseau
BEGIN:VEVENT
DTSTART;TZID=Europe/Paris:20260408T200000
DTEND;TZID=Europe/Paris:20260408T223000
DTSTAMP:20260425T165515
CREATED:20260407T063044Z
LAST-MODIFIED:20260407T063248Z
UID:3157-1775678400-1775687400@www.usseau86.fr
SUMMARY:Réunion du conseil municipal
DESCRIPTION:Ordre du jour : \nDésignation du secrétaire de séance : à définir \n  \nApprobation du procès-verbal du conseil municipal du 20 mars 2026 \n  \n1 – Création et composition des commissions communales \n2 – Désignation d’un représentant titulaire et d’un représentant suppléant au Syndicat ENERGIES VIENNE \n3 – Désignation des délégués au SIVOS LMUV \n4 – Désignation du correspondant Défense \n5 – Désignation du délégué au CNAS \n6 – Désignation d’un référent déontologue \n7- Droit à la formation des élus \n8 – Redevance d’occupation du domaine public 2026 par SRD \n9 – Commission Communale des Impôts Directs : désignation des membres à proposer à la direction départementale des Finances Publiques \n  \nQuestions diverses  \n
URL:http://www.usseau86.fr/evenement/reunion-du-conseil-municipal-12/
END:VEVENT
END:VCALENDAR