BEGIN:VCALENDAR
VERSION:2.0
PRODID:-//Site de la commune de Usseau - ECPv4.6.14.1//NONSGML v1.0//EN
CALSCALE:GREGORIAN
METHOD:PUBLISH
X-WR-CALNAME:Site de la commune de Usseau
X-ORIGINAL-URL:http://www.usseau86.fr
X-WR-CALDESC:Events for Site de la commune de Usseau
BEGIN:VEVENT
DTSTART;TZID=Europe/Paris:20260413T133000
DTEND;TZID=Europe/Paris:20260413T170000
DTSTAMP:20260420T034636
CREATED:20260409T150035Z
LAST-MODIFIED:20260409T150059Z
UID:3159-1776087000-1776099600@www.usseau86.fr
SUMMARY:Fermeture du secrétariat de mairie
DESCRIPTION:
URL:http://www.usseau86.fr/evenement/fermeture-du-secretariat-de-mairie-7/
END:VEVENT
END:VCALENDAR