BEGIN:VCALENDAR
VERSION:2.0
PRODID:-//Site de la commune de Usseau - ECPv4.6.14.1//NONSGML v1.0//EN
CALSCALE:GREGORIAN
METHOD:PUBLISH
X-WR-CALNAME:Site de la commune de Usseau
X-ORIGINAL-URL:http://www.usseau86.fr
X-WR-CALDESC:Events for Site de la commune de Usseau
BEGIN:VEVENT
DTSTART;TZID=Europe/Paris:20260515T080000
DTEND;TZID=Europe/Paris:20260522T170000
DTSTAMP:20260423T145833
CREATED:20260423T081235Z
LAST-MODIFIED:20260423T081235Z
UID:3162-1778832000-1779469200@www.usseau86.fr
SUMMARY:Fermeture du secrétariat de mairie
DESCRIPTION:
URL:http://www.usseau86.fr/evenement/fermeture-du-secretariat-de-mairie-8/
END:VEVENT
END:VCALENDAR