BEGIN:VCALENDAR
VERSION:2.0
PRODID:-//Site de la commune de Usseau - ECPv4.6.14.1//NONSGML v1.0//EN
CALSCALE:GREGORIAN
METHOD:PUBLISH
X-WR-CALNAME:Site de la commune de Usseau
X-ORIGINAL-URL:http://www.usseau86.fr
X-WR-CALDESC:Events for Site de la commune de Usseau
BEGIN:VEVENT
DTSTART;TZID=Europe/Paris:20260314T200000
DTEND;TZID=Europe/Paris:20260314T200000
DTSTAMP:20260425T185307
CREATED:20260205T123538Z
LAST-MODIFIED:20260205T123538Z
UID:3123-1773518400-1773518400@www.usseau86.fr
SUMMARY:Loto APE Pirouette
DESCRIPTION: \n
URL:http://www.usseau86.fr/evenement/loto-ape-pirouette/
END:VEVENT
END:VCALENDAR