BEGIN:VCALENDAR
VERSION:2.0
PRODID:-//Site de la commune de Usseau - ECPv4.6.14.1//NONSGML v1.0//EN
CALSCALE:GREGORIAN
METHOD:PUBLISH
X-WR-CALNAME:Site de la commune de Usseau
X-ORIGINAL-URL:https://www.usseau86.fr
X-WR-CALDESC:Events for Site de la commune de Usseau
BEGIN:VEVENT
DTSTART;TZID=Europe/Paris:20221202T190000
DTEND;TZID=Europe/Paris:20221203T220000
DTSTAMP:20260423T082748
CREATED:20221028T122329Z
LAST-MODIFIED:20221028T122329Z
UID:2334-1670007600-1670104800@www.usseau86.fr
SUMMARY:Challenge téléthon KARTING
DESCRIPTION:CHALLENGE TELETHON 2022 KARTING INDOOR DU VENDREDI 2  DECEMBRE 2022. (2H00) \n \nEQUIPE DE 2 OU 3 PILOTES  \,  INSCRIPTION 150 € PAR EQUIPE \n \n– 19h20 :    Accueil des pilotes \, Briefing de sécurité .( tirage au sort des karts ).\n– 19h35 :    20 minutes de chrono  ( Découverte de la piste et des karts) .\n– 20h00 :    1H40 heure de course avec relais . (Depart sur grille ).\n – 21h40     Arrivée de l’endurance  et podium\n \n \nCHALLENGE TELETHON 2022 KARTING INDOOR DU SAMEDI 3 DECEMBRE 2022. ( 1H20)\n \nEQUIPE DE 2 PILOTES  \,  INSCRIPTION 100 € PAR EQUIPE \,   \n \n – 17h45 :   Accueil des pilotes \, Briefing de sécurité .( tirage au sort des karts )\n -18h00 :    20 minutes de chrono    ( Découverte de la piste et des karts) . \n– 18h30 :   1 heure de course avec relais . (Depart sur grille  )                                 \n– 19h30      Arrivée de l’endurance  .\n– 19h45      Podium \n \nKARTING LOISIR 86 CIRCUITS DES TROIS CHENES 86230 USSEAU\nRENSEIGNEMENTS AU 05.49.85.12.61 ou PAR mail   karting.loisir.86@wanadoo.fr\n \n
URL:https://www.usseau86.fr/evenement/challenge-telethon-karting/
ATTACH;FMTTYPE=image/png:https://www.usseau86.fr/wp-content/uploads/2022/10/car-g4f90fd090_640.png
END:VEVENT
END:VCALENDAR